BEGIN:VCALENDAR
VERSION:2.0
PRODID:-//NFIA - ECPv6.15.12.2//NONSGML v1.0//EN
CALSCALE:GREGORIAN
METHOD:PUBLISH
X-WR-CALNAME:NFIA
X-ORIGINAL-URL:https://investinholland.com
X-WR-CALDESC:Events for NFIA
REFRESH-INTERVAL;VALUE=DURATION:PT1H
X-Robots-Tag:noindex
X-PUBLISHED-TTL:PT1H
BEGIN:VTIMEZONE
TZID:Europe/Amsterdam
BEGIN:DAYLIGHT
TZOFFSETFROM:+0100
TZOFFSETTO:+0200
TZNAME:CEST
DTSTART:20250330T010000
END:DAYLIGHT
BEGIN:STANDARD
TZOFFSETFROM:+0200
TZOFFSETTO:+0100
TZNAME:CET
DTSTART:20251026T010000
END:STANDARD
BEGIN:DAYLIGHT
TZOFFSETFROM:+0100
TZOFFSETTO:+0200
TZNAME:CEST
DTSTART:20260329T010000
END:DAYLIGHT
BEGIN:STANDARD
TZOFFSETFROM:+0200
TZOFFSETTO:+0100
TZNAME:CET
DTSTART:20261025T010000
END:STANDARD
BEGIN:DAYLIGHT
TZOFFSETFROM:+0100
TZOFFSETTO:+0200
TZNAME:CEST
DTSTART:20270328T010000
END:DAYLIGHT
BEGIN:STANDARD
TZOFFSETFROM:+0200
TZOFFSETTO:+0100
TZNAME:CET
DTSTART:20271031T010000
END:STANDARD
END:VTIMEZONE
BEGIN:VEVENT
DTSTART;VALUE=DATE:20260317
DTEND;VALUE=DATE:20260320
DTSTAMP:20260423T111908
CREATED:20250124T133113Z
LAST-MODIFIED:20260219T122850Z
UID:60410-1773705600-1773964799@investinholland.com
SUMMARY:Smart Energy Week Japan
DESCRIPTION:Smart Energy Week is world’s leading exhibition for renewable energy. Renewable energies are expected to play a greater role in achieving carbon neutrality by 2050. Smart Energy Week is an exhibition where the latest technologies\, information and people gather to accelerate the business in the energy industry!  \nLet’s solve global challenges together!\nDon’t miss the chance to meet our team and discover how the Netherlands is leading the way in renewable energy. \nWe look forward to connecting with you in Tokyo! Please contact: contact-us@nfia-japan.com or Mark Rijnties Rijnties@nfia-japan.com to schedule an appointment during Smart Energy Week
URL:https://investinholland.com/event/smart-energy-week-japan-2026/
LOCATION:Tokyo Big Sight\, Japan\, 3-11-1 Ariake\, Koto-ku\, Tokyo\, Japan 135-0063\, Tokyo\, Japan
ATTACH;FMTTYPE=image/png:https://investinholland.com/wp-content/uploads/2025/01/Smart-Energy-Week-2026.png
END:VEVENT
END:VCALENDAR