BEGIN:VCALENDAR
VERSION:2.0
PRODID:-//NFIA - ECPv6.15.12.2//NONSGML v1.0//EN
CALSCALE:GREGORIAN
METHOD:PUBLISH
X-ORIGINAL-URL:https://investinholland.com
X-WR-CALDESC:Events for NFIA
REFRESH-INTERVAL;VALUE=DURATION:PT1H
X-Robots-Tag:noindex
X-PUBLISHED-TTL:PT1H
BEGIN:VTIMEZONE
TZID:Europe/Amsterdam
BEGIN:DAYLIGHT
TZOFFSETFROM:+0100
TZOFFSETTO:+0200
TZNAME:CEST
DTSTART:20250330T010000
END:DAYLIGHT
BEGIN:STANDARD
TZOFFSETFROM:+0200
TZOFFSETTO:+0100
TZNAME:CET
DTSTART:20251026T010000
END:STANDARD
BEGIN:DAYLIGHT
TZOFFSETFROM:+0100
TZOFFSETTO:+0200
TZNAME:CEST
DTSTART:20260329T010000
END:DAYLIGHT
BEGIN:STANDARD
TZOFFSETFROM:+0200
TZOFFSETTO:+0100
TZNAME:CET
DTSTART:20261025T010000
END:STANDARD
BEGIN:DAYLIGHT
TZOFFSETFROM:+0100
TZOFFSETTO:+0200
TZNAME:CEST
DTSTART:20270328T010000
END:DAYLIGHT
BEGIN:STANDARD
TZOFFSETFROM:+0200
TZOFFSETTO:+0100
TZNAME:CET
DTSTART:20271031T010000
END:STANDARD
END:VTIMEZONE
BEGIN:VEVENT
DTSTART;VALUE=DATE:20260323
DTEND;VALUE=DATE:20260328
DTSTAMP:20260423T124155
CREATED:20260126T165705Z
LAST-MODIFIED:20260204T142859Z
UID:65005-1774224000-1774655999@investinholland.com
SUMMARY:CERAWeek 2026 – Innovation Agora
DESCRIPTION:Invest in Holland at CERAWeek 2026 – Innovation Agora\nCERAWeek brings together global leaders shaping the future of energy. During CERAWeek 2026\, the Invest in Holland team will be attending the Innovation Agora—the dynamic hub for energy innovation\, emerging technologies\, and collaboration. \nThe Netherlands is accelerating the transition to a sustainable\, reliable\, and affordable energy system – by bringing together technologies\, sectors\, and partners to turn innovation into real-world impact. At the Innovation Agora\, we look forward to connecting with global innovators and corporate leaders to explore how the Netherland offers a strong platform for developing and scaling solutions with global impact. \nAdvancing energy solutions from the Netherlands\nThe Dutch energy ecosystem is built for collaboration and scale. With strong public-private partnerships and a forward-looking policy environment\, the Netherlands supports innovation across the full energy value chain. Global innovators choose the Netherlands to test\, develop\, and scale solutions for European and international markets. \nCross-sector innovation driving decarbonization\nDecarbonizing energy systems requires progress across multiple industries and technologies. The Netherlands brings these domains together in an integrated innovation ecosystem. \nExamples include: \n\nRenewable energy solutions that can contribute to reliable net-zero energy systems\nSustainable industry advancing electrification\, circular production\, and low-carbon processes\nMaritime and aviation developing sustainable fuels\, propulsion\, and logistics solutions\nRecycling and circular economy innovations reducing resource use and emissions\nDigitalization and deep tech\, such as Quantum and AI\, and advanced computing enabling smarter energy systems\, optimization\, and modelling\n\nBy connecting sectors\, technologies\, and talent\, the Netherlands accelerates real-world energy transition outcomes. \nMeet us at Innovation Agora\nThe Invest in Holland team will be present at the Innovation Agora throughout CERAWeek and look forward to exchanging ideas and exploring collaboration opportunities. Connect with us in Houston and discover how the Netherlands can support your energy ambitions: \n\nJulia van Dam – Project Manager Foreign Investments | NFIA\nRianne Vriend-Vrijenhoef – Business Manager Energy & Chemicals | Rotterdam Partners
URL:https://investinholland.com/event/ceraweek-2026-innovation-agora/
LOCATION:George R. Brown Convention Center\, 1001 Avenida de las Americas\, Houston\, TX\, 77010\, United States
ATTACH;FMTTYPE=image/webp:https://investinholland.com/wp-content/uploads/2026/01/CERAWeek-Agora-logo.webp
END:VEVENT
BEGIN:VEVENT
DTSTART;VALUE=DATE:20260324
DTEND;VALUE=DATE:20260327
DTSTAMP:20260423T124155
CREATED:20260311T131336Z
LAST-MODIFIED:20260311T131336Z
UID:65535-1774310400-1774569599@investinholland.com
SUMMARY:LogiMat Stuttgart 2026
DESCRIPTION:Meet Invest in Holland at LogiMAT Stuttgart\nLogiMAT Stuttgart is Europe’s leading platform for intralogistics and supply chain innovation\, bringing together companies driving smarter and more sustainable logistics. Invest in Holland will be there to connect with businesses exploring expansion to the Netherlands. \nScaling logistics innovation across Europe starts in the Netherlands\nThe Netherlands is one of Europe’s most connected countries and a strategic gateway to the European market. Positioned at the heart of major trade corridors\, with strong multimodal connectivity across road\, rail\, air\, and sea\, it provides an efficient base for companies scaling logistics\, automation\, robotics\, and smart supply chain solutions. \nClose collaboration between industry\, research institutes\, and government ensures new technologies move quickly from concept to deployment. Combined with a stable and internationally oriented business climate\, the Netherlands enables logistics innovators to grow with speed and reliability. \nConnect with us in Stuttgart\nMeet the Invest in Holland team at LogiMAT Stuttgart and explore how your logistics innovation can scale across Europe from the Netherlands.
URL:https://investinholland.com/event/logimat-stuttgart-2026/
LOCATION:Messe Stuttgart\,  Flughafenstraße\,  70771 Echterdingen\, Germany
ATTACH;FMTTYPE=image/png:https://investinholland.com/wp-content/uploads/2026/02/LogiMat-Stuttgart-2026.png
END:VEVENT
END:VCALENDAR