BEGIN:VCALENDAR
VERSION:2.0
PRODID:-//NFIA - ECPv6.15.20//NONSGML v1.0//EN
CALSCALE:GREGORIAN
METHOD:PUBLISH
X-WR-CALNAME:NFIA
X-ORIGINAL-URL:https://investinholland.com
X-WR-CALDESC:Events for NFIA
REFRESH-INTERVAL;VALUE=DURATION:PT1H
X-Robots-Tag:noindex
X-PUBLISHED-TTL:PT1H
BEGIN:VTIMEZONE
TZID:Europe/Amsterdam
BEGIN:DAYLIGHT
TZOFFSETFROM:+0100
TZOFFSETTO:+0200
TZNAME:CEST
DTSTART:20250330T010000
END:DAYLIGHT
BEGIN:STANDARD
TZOFFSETFROM:+0200
TZOFFSETTO:+0100
TZNAME:CET
DTSTART:20251026T010000
END:STANDARD
BEGIN:DAYLIGHT
TZOFFSETFROM:+0100
TZOFFSETTO:+0200
TZNAME:CEST
DTSTART:20260329T010000
END:DAYLIGHT
BEGIN:STANDARD
TZOFFSETFROM:+0200
TZOFFSETTO:+0100
TZNAME:CET
DTSTART:20261025T010000
END:STANDARD
BEGIN:DAYLIGHT
TZOFFSETFROM:+0100
TZOFFSETTO:+0200
TZNAME:CEST
DTSTART:20270328T010000
END:DAYLIGHT
BEGIN:STANDARD
TZOFFSETFROM:+0200
TZOFFSETTO:+0100
TZNAME:CET
DTSTART:20271031T010000
END:STANDARD
END:VTIMEZONE
BEGIN:VEVENT
DTSTART;TZID=Europe/Amsterdam:20260601T143000
DTEND;TZID=Europe/Amsterdam:20260601T180000
DTSTAMP:20260425T174515
CREATED:20260317T144350Z
LAST-MODIFIED:20260317T144350Z
UID:65842-1780324200-1780336800@investinholland.com
SUMMARY:Welcome to The Netherlands: Fintech Forum
DESCRIPTION:Ahead of Money20/20 Europe\, the Netherlands Foreign Investment Agency (NFIA)\, in close collaboration with the Dutch Ministry of Finance\, De Nederlandsche Bank (DNB)\, and Techleap\, is convening an exclusive closed-door event dedicated to the Dutch fintech ecosystem. \nThe Netherlands has established itself as one of Europe’s most advanced and internationally connected fintech hubs. With Amsterdam as a leading financial and tech center\, the country offers direct access to the European market\, a highly digitalized society\, and a strong culture of innovation. \nThe Dutch fintech landscape is characterized by: \n\nA mature and collaborative ecosystem of fintech scale-ups\, global financial institutions\, and technology providers\nA pragmatic and innovation-driven regulatory environment\, with active engagement from policymakers and supervisors\nStrong public-private cooperation that accelerates responsible financial innovation\nA strategic gateway position within the EU\, supported by excellent digital infrastructure and international talent\n\nThis event will bring together a select group of international fintech leaders\, investors\, and policymakers to discuss opportunities\, regulatory developments\, and emerging trends shaping the future of financial services in the Netherlands and across Europe. \nDue to limited capacity\, participation is by confirmation (registrations will be reviewed and confirmed later). To ensure a balanced representation\, priority will be given to fintechs exploring entry into the Dutch financial sector \nRegister here for the event: Welcome to the Netherlands: Fintech Forum – 1 June 2026 – Netherlands Foreign Investment Agency – Home
URL:https://investinholland.com/event/welcome-to-the-netherlands-fintech-forum/
LOCATION:De Nederlandsche Bank (DNB)\, Frederiksplein 61\, Amsterdam\, North Holland\, 1017XL\, Netherlands
ATTACH;FMTTYPE=image/png:https://investinholland.com/wp-content/uploads/2026/03/NFIA-DNB-event-2026-Visual.png
END:VEVENT
END:VCALENDAR