BEGIN:VCALENDAR
VERSION:2.0
PRODID:-//NFIA - ECPv6.15.20//NONSGML v1.0//EN
CALSCALE:GREGORIAN
METHOD:PUBLISH
X-ORIGINAL-URL:https://investinholland.com
X-WR-CALDESC:Events for NFIA
REFRESH-INTERVAL;VALUE=DURATION:PT1H
X-Robots-Tag:noindex
X-PUBLISHED-TTL:PT1H
BEGIN:VTIMEZONE
TZID:Europe/Amsterdam
BEGIN:DAYLIGHT
TZOFFSETFROM:+0100
TZOFFSETTO:+0200
TZNAME:CEST
DTSTART:20250330T010000
END:DAYLIGHT
BEGIN:STANDARD
TZOFFSETFROM:+0200
TZOFFSETTO:+0100
TZNAME:CET
DTSTART:20251026T010000
END:STANDARD
BEGIN:DAYLIGHT
TZOFFSETFROM:+0100
TZOFFSETTO:+0200
TZNAME:CEST
DTSTART:20260329T010000
END:DAYLIGHT
BEGIN:STANDARD
TZOFFSETFROM:+0200
TZOFFSETTO:+0100
TZNAME:CET
DTSTART:20261025T010000
END:STANDARD
BEGIN:DAYLIGHT
TZOFFSETFROM:+0100
TZOFFSETTO:+0200
TZNAME:CEST
DTSTART:20270328T010000
END:DAYLIGHT
BEGIN:STANDARD
TZOFFSETFROM:+0200
TZOFFSETTO:+0100
TZNAME:CET
DTSTART:20271031T010000
END:STANDARD
END:VTIMEZONE
BEGIN:VEVENT
DTSTART;VALUE=DATE:20260602
DTEND;VALUE=DATE:20260605
DTSTAMP:20260425T211511
CREATED:20240506T080126Z
LAST-MODIFIED:20260414T143344Z
UID:57550-1780358400-1780617599@investinholland.com
SUMMARY:Money 20/20 2026 - Amsterdam
DESCRIPTION:Invest in Holland at Money20/20 Europe 2026\nMoney20/20 Europe 2026 is where the future of financial services takes shape\, with a strong focus on payments\, fintech innovation\, and the evolving European regulatory landscape. Invest in Holland will be present to connect with companies exploring expansion into Europe. \nDriving fintech innovation from the Netherlands\nThe Netherlands is one of Europe’s leading fintech hubs\, known for its strong regulatory environment\, advanced digital infrastructure\, and highly skilled\, internationally oriented workforce. Its strategic location and open business climate make it an ideal base for companies looking to scale across Europe. \nClose collaboration between fintech companies\, financial institutions\, regulators\, and research organizations supports innovation in areas such as payments\, open banking\, and digital finance. This ecosystem enables companies to scale quickly and navigate Europe’s evolving financial landscape with confidence. \nLet’s connect in Amsterdam\nMeet the Invest in Holland team at Money20/20 Europe 2026 and explore how your fintech solutions can scale across Europe from the Netherlands. Please contact Kevin Messak at kevin.messak@rvo.nl and Hugo Wischhoff at hugo.wischhoff@rvo.nl  from the Invest in Holland Fintech team to arrange a meeting during the event. \n  \n 
URL:https://investinholland.com/event/https-europe-money2020-com-_gl11ksf4r4_gamtqxnzc4nde5ns4xnzc1nzqymzaw_ga_y5fg36scwzcze3nzywnzizndgkbzikzzekdde3nzywnzi0mtgkaju2jgwwjggw/
LOCATION:Amsterdam RAI\, Amsterdam\, Netherlands
ATTACH;FMTTYPE=image/png:https://investinholland.com/wp-content/uploads/2024/05/zoiets-1.png
END:VEVENT
BEGIN:VEVENT
DTSTART;VALUE=DATE:20260602
DTEND;VALUE=DATE:20260606
DTSTAMP:20260425T211511
CREATED:20240222T135143Z
LAST-MODIFIED:20260413T092324Z
UID:56532-1780358400-1780703999@investinholland.com
SUMMARY:Computex Taipei 2026
DESCRIPTION:  \n \nInvest in Holland at COMPUTEX Taipei 2026\nCOMPUTEX Taipei 2026 brings together global leaders in AI\, semiconductors\, and advanced computing to explore the next wave of digital innovation. Invest in Holland will be present to connect with companies exploring expansion into Europe. \nAdvancing tech innovation from the Netherlands\nThe Netherlands is a key player in Europe’s high tech and semiconductor ecosystem\, supported by world class research institutions\, a strong supply chain\, and close collaboration between industry\, government\, and academia. Its strategic location and advanced digital infrastructure make it an ideal gateway to the European market. \nFrom semiconductors and AI to integrated photonics and data infrastructure\, the Dutch ecosystem enables companies to innovate\, scale\, and strengthen their position in Europe. \nLet’s connect in Taipei \nMeet the Invest in Holland team at COMPUTEX Taipei 2026 and explore how your technology can grow across Europe from the Netherlands. Please contact our team in Taiwan at info@nfia-taiwan.com to arrange a meeting during the event.
URL:https://investinholland.com/event/computex-taiwan-2024/
LOCATION:TaiNEX\, Taipei\, Taiwan
ATTACH;FMTTYPE=image/png:https://investinholland.com/wp-content/uploads/2024/02/Computex.png
END:VEVENT
END:VCALENDAR