BEGIN:VCALENDAR
VERSION:2.0
PRODID:-//NFIA - ECPv6.15.12.2//NONSGML v1.0//EN
CALSCALE:GREGORIAN
METHOD:PUBLISH
X-WR-CALNAME:NFIA
X-ORIGINAL-URL:https://investinholland.com
X-WR-CALDESC:Events for NFIA
REFRESH-INTERVAL;VALUE=DURATION:PT1H
X-Robots-Tag:noindex
X-PUBLISHED-TTL:PT1H
BEGIN:VTIMEZONE
TZID:Europe/Amsterdam
BEGIN:DAYLIGHT
TZOFFSETFROM:+0100
TZOFFSETTO:+0200
TZNAME:CEST
DTSTART:20250330T010000
END:DAYLIGHT
BEGIN:STANDARD
TZOFFSETFROM:+0200
TZOFFSETTO:+0100
TZNAME:CET
DTSTART:20251026T010000
END:STANDARD
BEGIN:DAYLIGHT
TZOFFSETFROM:+0100
TZOFFSETTO:+0200
TZNAME:CEST
DTSTART:20260329T010000
END:DAYLIGHT
BEGIN:STANDARD
TZOFFSETFROM:+0200
TZOFFSETTO:+0100
TZNAME:CET
DTSTART:20261025T010000
END:STANDARD
BEGIN:DAYLIGHT
TZOFFSETFROM:+0100
TZOFFSETTO:+0200
TZNAME:CEST
DTSTART:20270328T010000
END:DAYLIGHT
BEGIN:STANDARD
TZOFFSETFROM:+0200
TZOFFSETTO:+0100
TZNAME:CET
DTSTART:20271031T010000
END:STANDARD
END:VTIMEZONE
BEGIN:VEVENT
DTSTART;VALUE=DATE:20260505
DTEND;VALUE=DATE:20260508
DTSTAMP:20260423T112410
CREATED:20260409T134327Z
LAST-MODIFIED:20260409T134327Z
UID:66115-1777939200-1778198399@investinholland.com
SUMMARY:Cybersec Taiwan 2026
DESCRIPTION:Invest in Holland at CYBERSEC Taiwan 2026\nCYBERSEC Taiwan 2026 brings together global leaders in cybersecurity\, digital infrastructure\, and emerging technologies to address the growing importance of digital resilience and sovereignty. Invest in Holland will be present to connect with companies exploring expansion into Europe. \nAdvancing digital sovereignty from the Netherlands\nAs digital systems become increasingly critical\, ensuring control\, security\, and trust in data and infrastructure is more important than ever. The Netherlands plays a key role in Europe’s digital sovereignty efforts\, supported by advanced digital infrastructure\, strong cybersecurity capabilities\, and a highly connected innovation ecosystem. \nClose collaboration between government\, industry\, and research institutes enables the development of secure and scalable digital solutions. From data protection and secure cloud environments to AI and next generation cybersecurity technologies\, the Dutch ecosystem supports companies navigating Europe’s evolving digital and regulatory landscape. \nLet’s connect in Taiwan\nMeet the Invest in Holland team at CYBERSEC Taiwan 2026 and explore how your cybersecurity solutions can scale across Europe from the Netherlands. Please contact our team at info@nfia-taiwan.com\, in Taiwan to arrange a meeting during the event. \n 
URL:https://investinholland.com/event/cybersec-taiwan-2026/
ATTACH;FMTTYPE=image/png:https://investinholland.com/wp-content/uploads/2026/04/CybersecTaiwan.png
END:VEVENT
BEGIN:VEVENT
DTSTART;VALUE=DATE:20260519
DTEND;VALUE=DATE:20260522
DTSTAMP:20260423T112410
CREATED:20240320T113906Z
LAST-MODIFIED:20260311T154329Z
UID:56823-1779148800-1779407999@investinholland.com
SUMMARY:World Hydrogen Summit 2026\, Rotterdam
DESCRIPTION:Invest in Holland at the World Hydrogen Summit 2026 \nThe World Hydrogen Summit in Rotterdam is one of the leading global gatherings dedicated to advancing the hydrogen economy. Energy companies\, technology providers\, policymakers\, and investors come together to discuss how hydrogen can accelerate the transition to a sustainable energy system. \nAt the summit\, Invest in Holland will engage with organizations exploring new partnerships and opportunities within Europe’s hydrogen landscape. \nThe Netherlands as a hub for hydrogen development \nThe Netherlands plays a central role in Europe’s hydrogen transition. With strong industrial clusters\, advanced energy infrastructure\, and a strategic position within the European energy network\, the country is well positioned to support hydrogen production\, import\, transport\, and application. \nThrough close cooperation between industry\, research institutes\, and government\, the Dutch ecosystem is developing hydrogen solutions for sectors such as industry\, mobility\, and energy systems. \nMeet us in Rotterdam \nConnect with the Invest in Holland team during the World Hydrogen Summit and explore how the Netherlands can support your hydrogen ambitions in Europe. To schedule a meeting during the event\, please contact Elmar Bouma at elmar.bouma@rvo.nl to arrange a meeting during the summit.
URL:https://investinholland.com/event/world-hydrogen-summit-2026-rotterdam/
LOCATION:Rotterdam Ahoy\, Áhoyweg 10\, Rotterdam\, 3084BA\, Netherlands
ATTACH;FMTTYPE=image/png:https://investinholland.com/wp-content/uploads/2024/03/World-Hydrogen-Summit-Rotterdam-2026.png
END:VEVENT
BEGIN:VEVENT
DTSTART;VALUE=DATE:20260521
DTEND;VALUE=DATE:20260522
DTSTAMP:20260423T112410
CREATED:20260324T112017Z
LAST-MODIFIED:20260421T193915Z
UID:65896-1779321600-1779407999@investinholland.com
SUMMARY:Quantum Meets 2026 - Industrialization Matchmaking Event
DESCRIPTION:Sign up for a unique industrialization opportunity during Quantum Meets 2026! \nMeet the Netherlands: the beating heart of quantum\nAre you a quantum start-up or scale up looking to accelerate the industrialization of your solution? \nGrab this unique opportunity to be matched with world class industry partners in the Netherlands during Quantum Meets 2026\, to move from prototype to scalable products. \nSession highlights:\n\nExclusive and free of charge matchmaking – by signing up for this industrialization session we can connect you to specialized partners with high-tech manufacturing competences.\n\n\nSubmit your industrialization interest\, get matched with industry partners\, discuss collaboration possibilities.\n\n\nLearn more about the relevant open and shared infrastructure and services in the Dutch quantum ecosystem to fast track your specific industrialization need.\n\n\nThis industrialisation track is organized by Quantum Delta NL\, Netherlands Foreign Investment Agency \, Innovation Quarter\, OostNL\, BOM\, Eindhoven and Brainport Development.\n\nWho can apply for this opportunity?\n\nQuantum tech companies in computing\, communication\, and sensing where hardware is a key component within the solution.\n\n📅 May 21\, 2026\n\n📍 High Tech Campus Eindhoven\n \nREGISTER now and stay informed about this event! \n\nWhat type of industrialization are you looking for?\n\nIndustrialization includes both productization and manufacturing:\n\n\nProductization: Design\, engineering\, system integration and protoyping\n\n\nManufacturing: Pilot line support\, small series production and scaled up manufacturing\n\n\nWe can match you with competences in the following technology areas:\n\n\nCryogenics\, Electronics\, Precision Mechatronics\, Laser & Optics\, Materials\, Nano Fabrication\, Integrated Photonics\, Custom integrated circuits\, (advanced) Packaging\, System integration\, Testing & Validation\, Manufacturing at scale (incl DfX etc)\n\n\nStay tuned to learn more about the participating industry partners\n\nOur industry partners are looking forward to welcoming you during Quantum Meets 2026 and explore opportunities to accelerate your path towards industrialization.  Don’t forget to register! \nFor more information contact NFIA_htsm@rvo.nl.
URL:https://investinholland.com/event/quantum-meets-2026-industrialisation-match-making-event/
ATTACH;FMTTYPE=image/jpeg:https://investinholland.com/wp-content/uploads/2026/04/NFIA-Quantum-Meets-Matchmaking-Event-2026.jpg
END:VEVENT
BEGIN:VEVENT
DTSTART;TZID=Europe/Amsterdam:20260601T143000
DTEND;TZID=Europe/Amsterdam:20260601T180000
DTSTAMP:20260423T112410
CREATED:20260317T144350Z
LAST-MODIFIED:20260317T144350Z
UID:65842-1780324200-1780336800@investinholland.com
SUMMARY:Welcome to The Netherlands: Fintech Forum
DESCRIPTION:Ahead of Money20/20 Europe\, the Netherlands Foreign Investment Agency (NFIA)\, in close collaboration with the Dutch Ministry of Finance\, De Nederlandsche Bank (DNB)\, and Techleap\, is convening an exclusive closed-door event dedicated to the Dutch fintech ecosystem. \nThe Netherlands has established itself as one of Europe’s most advanced and internationally connected fintech hubs. With Amsterdam as a leading financial and tech center\, the country offers direct access to the European market\, a highly digitalized society\, and a strong culture of innovation. \nThe Dutch fintech landscape is characterized by: \n\nA mature and collaborative ecosystem of fintech scale-ups\, global financial institutions\, and technology providers\nA pragmatic and innovation-driven regulatory environment\, with active engagement from policymakers and supervisors\nStrong public-private cooperation that accelerates responsible financial innovation\nA strategic gateway position within the EU\, supported by excellent digital infrastructure and international talent\n\nThis event will bring together a select group of international fintech leaders\, investors\, and policymakers to discuss opportunities\, regulatory developments\, and emerging trends shaping the future of financial services in the Netherlands and across Europe. \nDue to limited capacity\, participation is by confirmation (registrations will be reviewed and confirmed later). To ensure a balanced representation\, priority will be given to fintechs exploring entry into the Dutch financial sector \nRegister here for the event: Welcome to the Netherlands: Fintech Forum – 1 June 2026 – Netherlands Foreign Investment Agency – Home
URL:https://investinholland.com/event/welcome-to-the-netherlands-fintech-forum/
LOCATION:De Nederlandsche Bank (DNB)\, Frederiksplein 61\, Amsterdam\, North Holland\, 1017XL\, Netherlands
ATTACH;FMTTYPE=image/png:https://investinholland.com/wp-content/uploads/2026/03/NFIA-DNB-event-2026-Visual.png
END:VEVENT
BEGIN:VEVENT
DTSTART;VALUE=DATE:20260602
DTEND;VALUE=DATE:20260605
DTSTAMP:20260423T112410
CREATED:20240506T080126Z
LAST-MODIFIED:20260414T143344Z
UID:57550-1780358400-1780617599@investinholland.com
SUMMARY:Money 20/20 2026 - Amsterdam
DESCRIPTION:Invest in Holland at Money20/20 Europe 2026\nMoney20/20 Europe 2026 is where the future of financial services takes shape\, with a strong focus on payments\, fintech innovation\, and the evolving European regulatory landscape. Invest in Holland will be present to connect with companies exploring expansion into Europe. \nDriving fintech innovation from the Netherlands\nThe Netherlands is one of Europe’s leading fintech hubs\, known for its strong regulatory environment\, advanced digital infrastructure\, and highly skilled\, internationally oriented workforce. Its strategic location and open business climate make it an ideal base for companies looking to scale across Europe. \nClose collaboration between fintech companies\, financial institutions\, regulators\, and research organizations supports innovation in areas such as payments\, open banking\, and digital finance. This ecosystem enables companies to scale quickly and navigate Europe’s evolving financial landscape with confidence. \nLet’s connect in Amsterdam\nMeet the Invest in Holland team at Money20/20 Europe 2026 and explore how your fintech solutions can scale across Europe from the Netherlands. Please contact Kevin Messak at kevin.messak@rvo.nl and Hugo Wischhoff at hugo.wischhoff@rvo.nl  from the Invest in Holland Fintech team to arrange a meeting during the event. \n  \n 
URL:https://investinholland.com/event/https-europe-money2020-com-_gl11ksf4r4_gamtqxnzc4nde5ns4xnzc1nzqymzaw_ga_y5fg36scwzcze3nzywnzizndgkbzikzzekdde3nzywnzi0mtgkaju2jgwwjggw/
LOCATION:Amsterdam RAI\, Amsterdam\, Netherlands
ATTACH;FMTTYPE=image/png:https://investinholland.com/wp-content/uploads/2024/05/zoiets-1.png
END:VEVENT
BEGIN:VEVENT
DTSTART;VALUE=DATE:20260602
DTEND;VALUE=DATE:20260606
DTSTAMP:20260423T112410
CREATED:20240222T135143Z
LAST-MODIFIED:20260413T092324Z
UID:56532-1780358400-1780703999@investinholland.com
SUMMARY:Computex Taipei 2026
DESCRIPTION:  \n \nInvest in Holland at COMPUTEX Taipei 2026\nCOMPUTEX Taipei 2026 brings together global leaders in AI\, semiconductors\, and advanced computing to explore the next wave of digital innovation. Invest in Holland will be present to connect with companies exploring expansion into Europe. \nAdvancing tech innovation from the Netherlands\nThe Netherlands is a key player in Europe’s high tech and semiconductor ecosystem\, supported by world class research institutions\, a strong supply chain\, and close collaboration between industry\, government\, and academia. Its strategic location and advanced digital infrastructure make it an ideal gateway to the European market. \nFrom semiconductors and AI to integrated photonics and data infrastructure\, the Dutch ecosystem enables companies to innovate\, scale\, and strengthen their position in Europe. \nLet’s connect in Taipei \nMeet the Invest in Holland team at COMPUTEX Taipei 2026 and explore how your technology can grow across Europe from the Netherlands. Please contact our team in Taiwan at info@nfia-taiwan.com to arrange a meeting during the event.
URL:https://investinholland.com/event/computex-taiwan-2024/
LOCATION:TaiNEX\, Taipei\, Taiwan
ATTACH;FMTTYPE=image/png:https://investinholland.com/wp-content/uploads/2024/02/Computex.png
END:VEVENT
BEGIN:VEVENT
DTSTART;VALUE=DATE:20260611
DTEND;VALUE=DATE:20260613
DTSTAMP:20260423T112410
CREATED:20260416T114332Z
LAST-MODIFIED:20260416T114332Z
UID:66236-1781136000-1781308799@investinholland.com
SUMMARY:Hello Tomorrow Summit 2026\, Amsterdam
DESCRIPTION:Are you a deep-tech entrepreneur\, investor or corporate looking to connect with the global deep-tech ecosystem? \nJoin the Hello Tomorrow Global Summit 2026\, taking place on 11 and 12 June 2026 in Amsterdam. For the first time\, this world-leading deep-tech summit comes to the Netherlands! \nDuring two days\, more than 3\,000 pioneers from science\, technology\, entrepreneurship and investment come together to accelerate deep-tech solutions with real-world impact. Expect inspiring keynotes\, cutting-edge innovations and high-quality connections across the global deep-tech value chain. \nHello Tomorrow connects innovators with funding\, partnerships and markets\, and supports founders building technologies that address major global challenges in areas such as climate\, health\, energy and advanced industry. \nThe Invest in Holland network will be at Hello Tomorrow to showcase opportunities for international innovators in the Dutch deep-tech ecosystem. Together with our partner Innovation Quarter\, we will take part in the Dutch Deeptech Tours on 9 June. \nYou can SIGN UP HERE for the Dutch Deeptech Tours. \nFor more information or to connect with our high tech team\, contact nfia_htsm@rvo.nl. \n  \n 
URL:https://investinholland.com/event/hello-tomorrow-summit-2026-amsterdam/
LOCATION:NDSM\, Amsterdam\, Netherlands
ATTACH;FMTTYPE=image/png:https://investinholland.com/wp-content/uploads/2026/04/Hello-Tomorrow-logo.png
END:VEVENT
BEGIN:VEVENT
DTSTART;VALUE=DATE:20260615
DTEND;VALUE=DATE:20260619
DTSTAMP:20260423T112410
CREATED:20250312T125551Z
LAST-MODIFIED:20260414T141733Z
UID:61341-1781481600-1781827199@investinholland.com
SUMMARY:HLTH Europe\, Amsterdam
DESCRIPTION:  \n  \n \nInvest in Holland at HLTH Europe 2026 \nHLTH Europe 2026 is where healthcare innovators\, investors\, and decision makers come together to accelerate the transformation of healthcare systems across Europe. Invest in Holland will be present to connect with companies exploring expansion into the European market. \nAdvancing health innovation from the Netherlands \nThe Netherlands is a leading hub for life sciences and health in Europe\, known for its strong research base\, advanced healthcare system\, and highly collaborative ecosystem. Its strategic location and international outlook make it an ideal gateway for companies looking to scale across Europe. \nClose collaboration between healthcare providers\, research institutions\, industry\, and government supports innovation in digital health\, medtech\, and data driven healthcare solutions. This ecosystem enables companies to accelerate development\, validate innovations\, and scale across the European market. \nLet’s connect in Amsterdam \nMeet the Invest in Holland team at HLTH Europe 2026 and explore how your health solutions can grow across Europe from the Netherlands. Please contact the Invest in Holland Life Science and health team at NFIA_LSH@rvo.nl to arrange a meeting during the event. \n 
URL:https://investinholland.com/event/hlth-europe-amsterdam/
LOCATION:Amsterdam RAI Exhibition and Convention Center\, Europaplein 24\, 1078 GZ Amsterdam\, Netherlands\, Amsterdam\, Netherlands
ATTACH;FMTTYPE=image/png:https://investinholland.com/wp-content/uploads/2025/03/zoiets-part-2-1.png
END:VEVENT
END:VCALENDAR