BEGIN:VCALENDAR
VERSION:2.0
PRODID:-//NFIA - ECPv6.15.12.2//NONSGML v1.0//EN
CALSCALE:GREGORIAN
METHOD:PUBLISH
X-ORIGINAL-URL:https://investinholland.com
X-WR-CALDESC:Events for NFIA
REFRESH-INTERVAL;VALUE=DURATION:PT1H
X-Robots-Tag:noindex
X-PUBLISHED-TTL:PT1H
BEGIN:VTIMEZONE
TZID:Europe/Amsterdam
BEGIN:DAYLIGHT
TZOFFSETFROM:+0100
TZOFFSETTO:+0200
TZNAME:CEST
DTSTART:20250330T010000
END:DAYLIGHT
BEGIN:STANDARD
TZOFFSETFROM:+0200
TZOFFSETTO:+0100
TZNAME:CET
DTSTART:20251026T010000
END:STANDARD
BEGIN:DAYLIGHT
TZOFFSETFROM:+0100
TZOFFSETTO:+0200
TZNAME:CEST
DTSTART:20260329T010000
END:DAYLIGHT
BEGIN:STANDARD
TZOFFSETFROM:+0200
TZOFFSETTO:+0100
TZNAME:CET
DTSTART:20261025T010000
END:STANDARD
BEGIN:DAYLIGHT
TZOFFSETFROM:+0100
TZOFFSETTO:+0200
TZNAME:CEST
DTSTART:20270328T010000
END:DAYLIGHT
BEGIN:STANDARD
TZOFFSETFROM:+0200
TZOFFSETTO:+0100
TZNAME:CET
DTSTART:20271031T010000
END:STANDARD
END:VTIMEZONE
BEGIN:VEVENT
DTSTART;TZID=Europe/Amsterdam:20260205T090000
DTEND;TZID=Europe/Amsterdam:20260205T160000
DTSTAMP:20260423T124321
CREATED:20260123T192224Z
LAST-MODIFIED:20260123T192549Z
UID:64978-1770282000-1770307200@investinholland.com
SUMMARY:Battery Tech Expo France 2026
DESCRIPTION:Meet Invest in Holland at Battery Tech Expo France\nBattery Tech Expo France brings the battery industry together for one focused day of innovation\, insight\, and connection—right in the heart of France’s electric valley. Invest in Holland will be attending to meet companies exploring growth\, collaboration\, and scale-up opportunities in the Dutch battery ecosystem. \n📍 Lille | 1 Day | Free to attend \nWhy the Netherlands leads in battery innovation\nThe global battery industry is transforming fast—and the Netherlands is stepping up as a key hub for next-generation\, circular\, and sustainable battery technologies that power the clean energy transition. \nThe Netherlands has built a highly collaborative and innovation-driven ecosystem aimed at developing future-fit battery technologies that meet the demands of a circular\, net-zero energy future. \n\nCircular\, sustainable battery solutions\nAdvanced research and innovation capacity\nStrong public-private collaboration\nA hub for international collaboration\n\nCompanies joining the Dutch battery ecosystem benefit from close collaboration\, access to talent\, and a stable environment for growth in Europe. \nConnect with Invest in Holland in Lille\nWillemijn Berenschot\, Director France & Southern Europe at NFIA will be at Battery Tech Expo France and is available for one-on-one conversations during the event to discuss how your company can benefit from the Dutch battery ecosystem. \nJoin us in Lille and explore how the Dutch battery ecosystem can accelerate your ambitions!
URL:https://investinholland.com/event/battery-tech-expo-france-2026/
LOCATION:Lille Grand Palais\, 1 Boulevard des Cités Unies\, Lille\, 59777\, France
ATTACH;FMTTYPE=image/png:https://investinholland.com/wp-content/uploads/2026/01/Battery-Tech-Expo-logo.png
END:VEVENT
BEGIN:VEVENT
DTSTART;TZID=Europe/Amsterdam:20260205T160000
DTEND;TZID=Europe/Amsterdam:20260205T170000
DTSTAMP:20260423T124321
CREATED:20260115T094157Z
LAST-MODIFIED:20260325T123609Z
UID:64842-1770307200-1770310800@investinholland.com
SUMMARY:Webinar Life Sciences & Health
DESCRIPTION:Demystifying EU Regulations:\nRegulatory support tools for innovative medicines and technologies developers\nThe NFIA recently hosted a webinar for the Life Sciences & Health community on demystifying EU regulations\, featuring experts from the European Medicines Agency. The session explored practical EMA tools that help SMEs\, clusters and research organizations bring innovative medicines and technologies to patients faster. If you missed it\, see below for the slide deck and recording. \n🎙 Speakers:\n🔹 Sebastian Asprella\, EU Competitiveness Programme Lead\, EMA\n🔹 Martin Botulinski\, EU Competitiveness Programme Support\, EMA \nWatch the recording here. \nSee slide deck here. \nThis webinar is brought to you through the combined efforts of the European Medicines Agency (EMA)\, the Netherlands Innovation Network (Boston)\, the Netherlands Enterprise Agency (RVO) and the Netherlands Foreign Investment Agency (NFIA). For more information\, contact nfia_LSH@rvo.nl
URL:https://investinholland.com/event/webinar-life-sciences-health/
END:VEVENT
BEGIN:VEVENT
DTSTART;VALUE=DATE:20260211
DTEND;VALUE=DATE:20260213
DTSTAMP:20260423T124321
CREATED:20260128T155829Z
LAST-MODIFIED:20260128T155829Z
UID:65064-1770768000-1770940799@investinholland.com
SUMMARY:Frankfurt Digital Finance 2026
DESCRIPTION:Meet us in Frankfurt: exploring Fintech opportunities in the Netherlands\nFrankfurt Digital Finance (FDF) is Europe’s premier English-speaking digital finance & fintech conference — bringing together ~1\,500 decision-makers from banks\, (fin)techs\, investors\, regulators\, policy makers\, and academics for two days of insight\, connection\, and collaboration in the heart of Europe’s financial capital. \nDuring our visit to Frankfurt Digital Finance\, we are connecting with financial institutions\, fintech leaders\, and innovators interested in expanding or partnering within Europe’s most connected fintech ecosystems: the Netherlands. \nWhy the Netherlands for Fintech?\nThe Netherlands has established itself as a leading European fintech hub\, combining a strong financial sector with advanced digital infrastructure\, regulatory clarity\, and direct access to EU markets. The Dutch fintech ecosystem brings together startups\, scale-ups\, global financial institutions\, regulators\, and technology providers in a highly collaborative environment. Organizations benefit from fast innovation cycles\, open banking leadership\, and close public-private cooperation. \nExplore fintech opportunities in the Netherlands during Frankfurt Digital Finance. Discover why global financial innovators choose the Dutch fintech ecosystem to scale\, partner\, and grow across Europe. \n🔎 Read more in our guide to the Dutch Fintech ecosystem. \nLet’s talk in Frankfurt\nInterested in learning how your company can partner\, scale\, or establish a presence within the Dutch fintech ecosystem? \nGet in touch with Nina Ehrenberg\, Director Germany and Central Europe NFIA\, to schedule a meeting during Frankfurt Digital Finance and explore concrete opportunities. \n 
URL:https://investinholland.com/event/frankfurt-digital-finance-2026/
LOCATION:Gesellschaftshaus Palmengarten\, Palmengartenstrasse 11\, Frankfurt am Main\, 60323\, Germany
ATTACH;FMTTYPE=image/webp:https://investinholland.com/wp-content/uploads/2026/01/Frankfurt-Digital-Finance-Logo-PNG.webp
END:VEVENT
BEGIN:VEVENT
DTSTART;VALUE=DATE:20260217
DTEND;VALUE=DATE:20260219
DTSTAMP:20260423T124321
CREATED:20260128T133556Z
LAST-MODIFIED:20260128T133556Z
UID:65039-1771286400-1771459199@investinholland.com
SUMMARY:Swiss Cyber Security Days 2026
DESCRIPTION:Meet us at Swiss Cyber Security Days 2026\nIn February\, we will be attending Swiss Cyber Security Days (SCSD) – Switzerland’s leading platform for dialogue on cybersecurity\, digital resilience\, and trust in the digital age. The event brings together policymakers\, technology leaders\, and innovators to address today’s most pressing cyber challenges and explore future-ready solutions. \nDuring SCSD\, we look forward to connecting with companies who are scaling cybersecurity solutions in Europe and beyond—and to sharing insights from one of Europe’s most advanced cybersecurity ecosystems: the Netherlands. \nThe Netherlands: A leading cybersecurity hub in Europe\nThe Netherlands is a recognized European hub for cybersecurity\, offering a strong digital infrastructure\, close public–private collaboration\, and access to highly skilled talent. Its open\, international business climate supports companies scaling secure digital solutions for European and global markets. \nGlobal cybersecurity leaders such as KnowBe4\, Fortinet\, Keypasco\, C3SA\, Cyemptive Technologies\, Turing Europe\, and S2 Grupo have already chosen the Netherlands as their base for European growth—underscoring the country’s role in strengthening Europe’s digital resilience. \nTogether\, these investments highlight the Netherlands’ role as a gateway for cybersecurity innovation and growth in Europe. \nLet’s meet in Switzerland\nAttending Swiss Cyber Security Days and curious about opportunities in the Dutch cybersecurity ecosystem? \n👉 Contact Nina Ehrenberg\, Director Germany and Central Europe NFIA\, to arrange a meeting during SCSD or to continue the conversation afterward.
URL:https://investinholland.com/event/swiss-cyber-security-days-2026/
LOCATION:BERNEXPO\, Bern\, Switzerland
ATTACH;FMTTYPE=image/png:https://investinholland.com/wp-content/uploads/2026/01/SCSD26_WebLogo.png
END:VEVENT
END:VCALENDAR