BEGIN:VCALENDAR
VERSION:2.0
PRODID:-//NFIA - ECPv6.15.12.2//NONSGML v1.0//EN
CALSCALE:GREGORIAN
METHOD:PUBLISH
X-ORIGINAL-URL:https://investinholland.com
X-WR-CALDESC:Events for NFIA
REFRESH-INTERVAL;VALUE=DURATION:PT1H
X-Robots-Tag:noindex
X-PUBLISHED-TTL:PT1H
BEGIN:VTIMEZONE
TZID:Europe/Amsterdam
BEGIN:DAYLIGHT
TZOFFSETFROM:+0100
TZOFFSETTO:+0200
TZNAME:CEST
DTSTART:20250330T010000
END:DAYLIGHT
BEGIN:STANDARD
TZOFFSETFROM:+0200
TZOFFSETTO:+0100
TZNAME:CET
DTSTART:20251026T010000
END:STANDARD
BEGIN:DAYLIGHT
TZOFFSETFROM:+0100
TZOFFSETTO:+0200
TZNAME:CEST
DTSTART:20260329T010000
END:DAYLIGHT
BEGIN:STANDARD
TZOFFSETFROM:+0200
TZOFFSETTO:+0100
TZNAME:CET
DTSTART:20261025T010000
END:STANDARD
BEGIN:DAYLIGHT
TZOFFSETFROM:+0100
TZOFFSETTO:+0200
TZNAME:CEST
DTSTART:20270328T010000
END:DAYLIGHT
BEGIN:STANDARD
TZOFFSETFROM:+0200
TZOFFSETTO:+0100
TZNAME:CET
DTSTART:20271031T010000
END:STANDARD
END:VTIMEZONE
BEGIN:VEVENT
DTSTART;VALUE=DATE:20260420
DTEND;VALUE=DATE:20260425
DTSTAMP:20260423T100106
CREATED:20260415T193838Z
LAST-MODIFIED:20260415T193838Z
UID:66230-1776643200-1777075199@investinholland.com
SUMMARY:Hannover Messe 2026
DESCRIPTION:Meet Invest in Holland at Hannover Messe 2026\nFrom April 20-24\, the Netherlands will once again take center stage at Hannover Messe 2026\, the world’s leading platform for industrial innovation. At the NL Pavilion\, our country will showcase how the Dutch high-tech ecosystem is accelerating the transition toward a smart\, sustainable\, and secure industry. \nAt the pavilion\, the Invest in Holland team will be on hand to support international companies exploring expansion into Europe. We help you: \n\nEstablish and grow your operations in the Netherlands\nConnect with strategic partners across industry and academia\nAccess talent\, innovation clusters\, and funding opportunities\nNavigate location strategy\, incentives\, and regulatory frameworks\n\nThe Dutch high-tech ecosystem\nThe Netherlands is one of the most advanced and collaborative high-tech ecosystems in the world\, built on strong public-private partnerships and a culture of open innovation. From R&D and prototyping to advanced manufacturing and system integration\, companies\, knowledge institutes\, and government work closely together\, enabling rapid innovation and commercialization. This ecosystem enables companies to innovate faster\, scale efficiently\, and collaborate globally. \nA leading hub for IT & digital innovation\nComplementing its strength in high-tech systems\, the Netherlands is also a leading European hub for IT and digital innovation\, making it an ideal location for companies operating at the intersection of industry and technology. \nAs one of the most digitally connected countries in the world\, the Netherlands offers a powerful foundation for innovation and growth. Home to more than 11\,000 tech companies and a growing pool of global investors\, companies benefit from an ecosystem where hardware\, software\, and data come together\, accelerating the development of next-generation solutions in areas such as smart industry\, AI-driven manufacturing\, and connected systems. \nMeet our experts at Hannover Messe\nPlanning to visit Hannover Messe or interested in exploring opportunities in the Netherlands? Our team is happy to connect. \nOur colleagues Nina Ehrenberg and Janet de Rooy-Smid will be present at the NL Pavilion throughout the week. They bring extensive experience in supporting international companies in the high-tech and digital industries and would be happy to discuss your plans. \nSchedule a meeting in advance or stop by the pavilion to connect in person.
URL:https://investinholland.com/event/hannover-messe-2026/
LOCATION:Hannover Messe\, Hannover\, Germany
ATTACH;FMTTYPE=image/jpeg:https://investinholland.com/wp-content/uploads/2023/03/Hannover-Messe-logo.jpg
END:VEVENT
END:VCALENDAR